BEGIN:VCALENDAR
VERSION:2.0
PRODID:-//hacksw/handcal//NONSGML v1.0//EN
CALSCALE:GREGORIAN
BEGIN:VEVENT
SUMMARY:EU-Consent Newsletter\, January 2008
DESCRIPTION:
DTSTART:20071231T220000Z
DTEND:20071231T220000Z
LOCATION:
URL;VALUE=URI:https://www.eliamep.gr/en/event/eu-consent-newsletter-january-2008/
DTSTAMP:20211127T081104Z
UID:61a1e818e4fb8
END:VEVENT
END:VCALENDAR