BEGIN:VCALENDAR
VERSION:2.0
PRODID:-//hacksw/handcal//NONSGML v1.0//EN
CALSCALE:GREGORIAN
BEGIN:VEVENT
SUMMARY:EPIN Meeting: Politicisation of the EU – What Perspectives?
DESCRIPTION:
DTSTART:20071126T220000Z
DTEND:20071126T220000Z
LOCATION:Brussels\, Belgium 
URL;VALUE=URI:https://www.eliamep.gr/en/event/epin-meeting-politicisation-of-the-eu-%e2%80%93-what-perspectives/
DTSTAMP:20211127T095000Z
UID:61a1ff487f898
END:VEVENT
END:VCALENDAR