BEGIN:VCALENDAR
VERSION:2.0
PRODID:-//hacksw/handcal//NONSGML v1.0//EN
CALSCALE:GREGORIAN
BEGIN:VEVENT
SUMMARY:ELIAMEP research seminar on ‘The media in Greece: Current issues and future challenges’
DESCRIPTION:
DTSTART:20120405T210000Z
DTEND:20211126T220000Z
LOCATION:premises of ELIAMEP in Athens
URL;VALUE=URI:https://www.eliamep.gr/en/event/eliamep-research-seminar-on-the-media-in-greece-current-issues-and-future-challenges/
DTSTAMP:20211127T083129Z
UID:61a1ece1eab53
END:VEVENT
END:VCALENDAR