BEGIN:VCALENDAR
VERSION:2.0
PRODID:-//hacksw/handcal//NONSGML v1.0//EN
CALSCALE:GREGORIAN
BEGIN:VEVENT
SUMMARY:ELIAMEP annual lecture 2006: Dr. Olli Rehn
DESCRIPTION:
DTSTART:20060308T220000Z
DTEND:20060308T220000Z
LOCATION:Athens\, Greece
URL;VALUE=URI:https://www.eliamep.gr/en/event/eliamep-annual-lecture-2006-dr-olli-rehn/
DTSTAMP:20211127T081003Z
UID:61a1e7db531bc
END:VEVENT
END:VCALENDAR