BEGIN:VCALENDAR
VERSION:2.0
PRODID:-//hacksw/handcal//NONSGML v1.0//EN
CALSCALE:GREGORIAN
BEGIN:VEVENT
SUMMARY:Education: a tool of cultural awareness
DESCRIPTION:
DTSTART:20081123T220000Z
DTEND:20211126T220000Z
LOCATION:
URL;VALUE=URI:https://www.eliamep.gr/en/event/education-a-tool-of-cultural-awareness/
DTSTAMP:20211127T092231Z
UID:61a1f8d75b7f9
END:VEVENT
END:VCALENDAR