BEGIN:VCALENDAR
VERSION:2.0
PRODID:-//hacksw/handcal//NONSGML v1.0//EN
CALSCALE:GREGORIAN
BEGIN:VEVENT
SUMMARY:Discussion on Russia
DESCRIPTION:
DTSTART:20050420T210000Z
DTEND:20050420T210000Z
LOCATION:Athens\, Greece
URL;VALUE=URI:https://www.eliamep.gr/en/event/discussion-on-russia/
DTSTAMP:20211127T090926Z
UID:61a1f5c6d6c54
END:VEVENT
END:VCALENDAR