BEGIN:VCALENDAR
VERSION:2.0
PRODID:-//hacksw/handcal//NONSGML v1.0//EN
CALSCALE:GREGORIAN
BEGIN:VEVENT
SUMMARY:Discussion group on ‘Media policy: suggestions and recommendations for the development of free and independent media in Croatia
DESCRIPTION:
DTSTART:20120417T210000Z
DTEND:20120417T210000Z
LOCATION:
URL;VALUE=URI:https://www.eliamep.gr/en/event/discussion-group-on-media-policy-suggestions-and-recommendations-for-the-development-of-free-and-independent-media-in-croatia/
DTSTAMP:20211127T083139Z
UID:61a1eceb7a4fc
END:VEVENT
END:VCALENDAR