BEGIN:VCALENDAR
VERSION:2.0
PRODID:-//hacksw/handcal//NONSGML v1.0//EN
CALSCALE:GREGORIAN
BEGIN:VEVENT
SUMMARY:Human rights and cross-border movements
DESCRIPTION:
DTSTART:20051120T220000Z
DTEND:20051123T220000Z
LOCATION:Athens\, Greece
URL;VALUE=URI:https://www.eliamep.gr/en/event/diasinoriaki-metakinisi-prosopon-ke-anthropina-dikeomata/
DTSTAMP:20211127T090111Z
UID:61a1f3d750663
END:VEVENT
END:VCALENDAR