BEGIN:VCALENDAR
VERSION:2.0
PRODID:-//hacksw/handcal//NONSGML v1.0//EN
CALSCALE:GREGORIAN
BEGIN:VEVENT
SUMMARY:Developments regarding the Orthodox Patriarchate in Jerusalem
DESCRIPTION:
DTSTART:20050524T210000Z
DTEND:20050524T210000Z
LOCATION:Athens\, Greece
URL;VALUE=URI:https://www.eliamep.gr/en/event/developments-regarding-the-orthodox-patriarchate-in-jerusalem/
DTSTAMP:20211127T090928Z
UID:61a1f5c86397b
END:VEVENT
END:VCALENDAR