BEGIN:VCALENDAR
VERSION:2.0
PRODID:-//hacksw/handcal//NONSGML v1.0//EN
CALSCALE:GREGORIAN
BEGIN:VEVENT
SUMMARY:Coping with the Economic Crisis
DESCRIPTION:
DTSTART:20090208T220000Z
DTEND:20090208T220000Z
LOCATION:
URL;VALUE=URI:https://www.eliamep.gr/en/event/coping-with-the-economic-crisis/
DTSTAMP:20211127T094935Z
UID:61a1ff2f27264
END:VEVENT
END:VCALENDAR