BEGIN:VCALENDAR
VERSION:2.0
PRODID:-//hacksw/handcal//NONSGML v1.0//EN
CALSCALE:GREGORIAN
BEGIN:VEVENT
SUMMARY:Contemporary International Challenges
DESCRIPTION:
DTSTART:20050223T220000Z
DTEND:20050223T220000Z
LOCATION:PRESIDENTIAL PALACE\, ATHENS
URL;VALUE=URI:https://www.eliamep.gr/en/event/contemporary-international-challenges/
DTSTAMP:20211127T090937Z
UID:61a1f5d17e6a5
END:VEVENT
END:VCALENDAR