BEGIN:VCALENDAR
VERSION:2.0
PRODID:-//hacksw/handcal//NONSGML v1.0//EN
CALSCALE:GREGORIAN
BEGIN:VEVENT
SUMMARY:Conflicts in 21st Century Africa: Promoting peace and stability to the region
DESCRIPTION:
DTSTART:20060130T220000Z
DTEND:20060130T220000Z
LOCATION:Athens\, Greece
URL;VALUE=URI:https://www.eliamep.gr/en/event/conflicts-in-21st-century-africa-promoting-peace-and-stability-to-the-region/
DTSTAMP:20211127T092045Z
UID:61a1f86d88b5e
END:VEVENT
END:VCALENDAR