BEGIN:VCALENDAR
VERSION:2.0
PRODID:-//hacksw/handcal//NONSGML v1.0//EN
CALSCALE:GREGORIAN
BEGIN:VEVENT
SUMMARY:Clingendael: Exploring the Scope of the European Neighbourhood Policy – Towards New Forms of Partnership?
DESCRIPTION:
DTSTART:20080409T210000Z
DTEND:20080410T210000Z
LOCATION: The Hague
URL;VALUE=URI:https://www.eliamep.gr/en/event/clingendael-exploring-the-scope-of-the-european-neighbourhood-policy-%e2%80%93-towards-new-forms-of-partnership/
DTSTAMP:20211127T094823Z
UID:61a1fee72a8f7
END:VEVENT
END:VCALENDAR