BEGIN:VCALENDAR
VERSION:2.0
PRODID:-//hacksw/handcal//NONSGML v1.0//EN
CALSCALE:GREGORIAN
BEGIN:VEVENT
SUMMARY:Τα δικαιώματα των πολιτών στην Ευρωπαϊκή Ένωση
DESCRIPTION:
DTSTART:20080527T210000Z
DTEND:20080527T210000Z
LOCATION:
URL;VALUE=URI:https://www.eliamep.gr/en/event/citizens%e2%80%99-rights-in-the-european-union/
DTSTAMP:20211127T094809Z
UID:61a1fed98876a
END:VEVENT
END:VCALENDAR