BEGIN:VCALENDAR
VERSION:2.0
PRODID:-//hacksw/handcal//NONSGML v1.0//EN
CALSCALE:GREGORIAN
BEGIN:VEVENT
SUMMARY:Briefing with the Prime Minister of Romania\, Mr. Calin-Constantin Anton Popescu-Tariceanu
DESCRIPTION:
DTSTART:20050704T210000Z
DTEND:20050704T210000Z
LOCATION:Athens\, Greece
URL;VALUE=URI:https://www.eliamep.gr/en/event/briefing-with-the-prime-minister-of-romania-mr-calin-constantin-anton-popescu-tariceanu/
DTSTAMP:20211127T090926Z
UID:61a1f5c66e966
END:VEVENT
END:VCALENDAR