BEGIN:VCALENDAR
VERSION:2.0
PRODID:-//hacksw/handcal//NONSGML v1.0//EN
CALSCALE:GREGORIAN
BEGIN:VEVENT
SUMMARY:Briefing with Ambassador Robert Mc Rae
DESCRIPTION:
DTSTART:20050622T210000Z
DTEND:20050622T210000Z
LOCATION:Athens\, Greece
URL;VALUE=URI:https://www.eliamep.gr/en/event/briefing-with-ambassador-robert-mc-rae/
DTSTAMP:20211127T090932Z
UID:61a1f5cca2246
END:VEVENT
END:VCALENDAR