BEGIN:VCALENDAR
VERSION:2.0
PRODID:-//hacksw/handcal//NONSGML v1.0//EN
CALSCALE:GREGORIAN
BEGIN:VEVENT
SUMMARY:Briefing on EU-Greece relations\, the Balkans and Turkey
DESCRIPTION:
DTSTART:20051017T210000Z
DTEND:20051017T210000Z
LOCATION:Athens\, Greece
URL;VALUE=URI:https://www.eliamep.gr/en/event/briefing-on-eu-greece-relations-the-balkans-and-turkey/
DTSTAMP:20211127T090933Z
UID:61a1f5cdedd7f
END:VEVENT
END:VCALENDAR