BEGIN:VCALENDAR
VERSION:2.0
PRODID:-//hacksw/handcal//NONSGML v1.0//EN
CALSCALE:GREGORIAN
BEGIN:VEVENT
SUMMARY:Blog-Debates – Irregular migration and undeclared work: what&#8217\;s the reality?
DESCRIPTION:
DTSTART:20100926T210000Z
DTEND:20100926T210000Z
LOCATION:
URL;VALUE=URI:https://www.eliamep.gr/en/event/blog-dialogi-%e2%80%93-paratipi-metanastefsi-ke-adiloti-ergasia-pia-ine-i-pragmatikotita/
DTSTAMP:20211127T092224Z
UID:61a1f8d07601f
END:VEVENT
END:VCALENDAR