BEGIN:VCALENDAR
VERSION:2.0
PRODID:-//hacksw/handcal//NONSGML v1.0//EN
CALSCALE:GREGORIAN
BEGIN:VEVENT
SUMMARY:Antiparatheseis\, &#8220\;Is it possible and should the borders be closed to irregular migrants?&#8221\;\, 10/03/2011
DESCRIPTION:
DTSTART:20110309T220000Z
DTEND:20110309T220000Z
LOCATION:Auditorium of the old Athens Stock Exchange
URL;VALUE=URI:https://www.eliamep.gr/en/event/antiparathesis-%e2%80%9cmporoun-ke-prepi-na-klisoun-ta-sinora-gia-tous-paranomous-metanastes%e2%80%9d-10032011/
DTSTAMP:20211127T075523Z
UID:61a1e46b81143
END:VEVENT
END:VCALENDAR