BEGIN:VCALENDAR
VERSION:2.0
PRODID:-//hacksw/handcal//NONSGML v1.0//EN
CALSCALE:GREGORIAN
BEGIN:VEVENT
SUMMARY:Annual Lecture: Recent developments in Europe and the role of ELIAMEP in improving governance
DESCRIPTION:
DTSTART:20081021T210000Z
DTEND:20081021T210000Z
LOCATION:
URL;VALUE=URI:https://www.eliamep.gr/en/event/annual-lecture-recent-developments-in-europe-and-the-role-of-eliamep-in-improving-governance/
DTSTAMP:20211127T094943Z
UID:61a1ff37d689f
END:VEVENT
END:VCALENDAR