BEGIN:VCALENDAR
VERSION:2.0
PRODID:-//hacksw/handcal//NONSGML v1.0//EN
CALSCALE:GREGORIAN
BEGIN:VEVENT
SUMMARY:Anna Triandafyllidou &#8211\; Francis Fukuyama and European Muslims
DESCRIPTION:
DTSTART:20061009T210000Z
DTEND:20211126T220000Z
LOCATION:
URL;VALUE=URI:https://www.eliamep.gr/en/event/anna-triandafyllidou-francis-fukuyama-and-european-muslims/
DTSTAMP:20211127T092233Z
UID:61a1f8d95861f
END:VEVENT
END:VCALENDAR