BEGIN:VCALENDAR
VERSION:2.0
PRODID:-//hacksw/handcal//NONSGML v1.0//EN
CALSCALE:GREGORIAN
BEGIN:VEVENT
SUMMARY:An overview of national media debates on Europe in the post war period
DESCRIPTION:
DTSTART:20001215T220000Z
DTEND:20081215T220000Z
LOCATION:
URL;VALUE=URI:https://www.eliamep.gr/en/event/an-overview-of-national-media-debates-on-europe-in-the-post-war-period/
DTSTAMP:20211127T081017Z
UID:61a1e7e989f64
END:VEVENT
END:VCALENDAR