BEGIN:VCALENDAR
VERSION:2.0
PRODID:-//hacksw/handcal//NONSGML v1.0//EN
CALSCALE:GREGORIAN
BEGIN:VEVENT
SUMMARY:AIES European Academy 2008
DESCRIPTION:
DTSTART:20080714T100000Z
DTEND:20080717T210000Z
LOCATION:Schloss des Deutschen Ritterordens \, 
Kirchplatz 4\, A-2352 Gumpoldskirchen 
Austria
URL;VALUE=URI:https://www.eliamep.gr/en/event/aies-european-academy-2008/
DTSTAMP:20211127T094806Z
UID:61a1fed641494
END:VEVENT
END:VCALENDAR