BEGIN:VCALENDAR
VERSION:2.0
PRODID:-//hacksw/handcal//NONSGML v1.0//EN
CALSCALE:GREGORIAN
BEGIN:VEVENT
SUMMARY:Africa&#8217\;s development as a global challenge
DESCRIPTION:
DTSTART:20050920T210000Z
DTEND:20050920T210000Z
LOCATION:Athens\, Greece
URL;VALUE=URI:https://www.eliamep.gr/en/event/africas-development-as-a-global-challenge/
DTSTAMP:20211127T090931Z
UID:61a1f5cb6c2ef
END:VEVENT
END:VCALENDAR