BEGIN:VCALENDAR
VERSION:2.0
PRODID:-//hacksw/handcal//NONSGML v1.0//EN
CALSCALE:GREGORIAN
BEGIN:VEVENT
SUMMARY:Public Debate: &#8216\;The role of the EU in dealing with environmental challenges after Paris&#8217\;\, 18/04/2016
DESCRIPTION:
DTSTART:20160418T140000Z
DTEND:20160417T210000Z
LOCATION:Europe Direct Offices of the Municipality of Athens (Akadimias 50\, Athens)
URL;VALUE=URI:https://www.eliamep.gr/en/event/a%ce%bd%ce%bf%ce%b9%cf%87%cf%84%ce%ae-%cf%83%cf%85%ce%b6%ce%ae%cf%84%ce%b7%cf%83%ce%b7-%cf%80%ce%b1%cf%81%ce%af%cf%83%ce%b9-%cf%8e%cf%81%ce%b1-%ce%bc%ce%b7%ce%b4%ce%ad%ce%bd-%ce%bf-%cf%81/
DTSTAMP:20211127T094736Z
UID:61a1feb8e5ac5
END:VEVENT
END:VCALENDAR