BEGIN:VCALENDAR
VERSION:2.0
PRODID:-//hacksw/handcal//NONSGML v1.0//EN
CALSCALE:GREGORIAN
BEGIN:VEVENT
SUMMARY:13th European Seminar of ELIAMEP\, 30 June &#8211\; 2 July 2016
DESCRIPTION:
DTSTART:20160629T210000Z
DTEND:20160701T210000Z
LOCATION:Hydra
URL;VALUE=URI:https://www.eliamep.gr/en/event/13o-%ce%b5%cf%85%cf%81%cf%89%cf%80%ce%b1%cf%8a%ce%ba%cf%8c-%cf%83%ce%b5%ce%bc%ce%b9%ce%bd%ce%ac%cf%81%ce%b9%ce%bf-30-%ce%b9%ce%bf%cf%85%ce%bd%ce%af%ce%bf%cf%85-2-%ce%b9%ce%bf%cf%85%ce%bb%ce%af/
DTSTAMP:20211127T081114Z
UID:61a1e822734ba
END:VEVENT
END:VCALENDAR