BEGIN:VCALENDAR
VERSION:2.0
PRODID:-//hacksw/handcal//NONSGML v1.0//EN
CALSCALE:GREGORIAN
BEGIN:VEVENT
SUMMARY:10th Conference of Transparency International: Speech by Professor Pagoulatos\, ELIAMEP\, Board Member
DESCRIPTION:
DTSTART:20171207T220000Z
DTEND:20171207T220000Z
LOCATION:Divani Caravel Hotel
URL;VALUE=URI:https://www.eliamep.gr/en/event/10%ce%bf-%cf%83%cf%85%ce%bd%ce%ad%ce%b4%cf%81%ce%b9%ce%bf-%cf%84%ce%b7%cf%82-%ce%b4%ce%b9%ce%b5%ce%b8%ce%bd%ce%bf%cf%8d%cf%82-%ce%b4%ce%b9%ce%b1%cf%86%ce%ac%ce%bd%ce%b5%ce%b9%ce%b1%cf%82-8-12-2017/
DTSTAMP:20211127T081150Z
UID:61a1e846270fe
END:VEVENT
END:VCALENDAR