BEGIN:VCALENDAR
VERSION:2.0
PRODID:-//hacksw/handcal//NONSGML v1.0//EN
CALSCALE:GREGORIAN
BEGIN:VEVENT
SUMMARY:Closed-event: “Tour d’Europe” co-organised by RISE and ELIAMEP\, Athens 12 February 2018
DESCRIPTION:
DTSTART:20180212T073000Z
DTEND:20180212T150000Z
LOCATION:Conference room of the Representation of the European Commission In Greece
URL;VALUE=URI:https://www.eliamep.gr/en/event/%cf%83%cf%85%ce%bd%ce%b4%ce%b9%ce%bf%cf%81%ce%b3%ce%ac%ce%bd%cf%89%cf%83%ce%b7-%ce%ba%ce%bb%ce%b5%ce%b9%cf%83%cf%84%ce%ae%cf%82-%ce%b5%ce%ba%ce%b4%ce%ae%ce%bb%cf%89%cf%83%ce%b7%cf%82-%ce%b1%cf%80/
DTSTAMP:20211127T095009Z
UID:61a1ff51b5d27
END:VEVENT
END:VCALENDAR