BEGIN:VCALENDAR
VERSION:2.0
PRODID:-//hacksw/handcal//NONSGML v1.0//EN
CALSCALE:GREGORIAN
BEGIN:VEVENT
SUMMARY:Conference: &#8216\;Back to the Cold War or forward to a stable relationship?&#8217\;\, 22-23 January 2015
DESCRIPTION:
DTSTART:20150122T150000Z
DTEND:20150122T220000Z
LOCATION:Electra Palace\, 18-20\, N.Nikodimou Str.
URL;VALUE=URI:https://www.eliamep.gr/en/event/%cf%83%cf%85%ce%bd%ce%ad%ce%b4%cf%81%ce%b9%ce%bf-back-to-the-cold-war-or-forward-to-a-stable-relationship-political-and-energy-relations-between-russia-and-the-west-in-the-black-sea/
DTSTAMP:20211127T094747Z
UID:61a1fec346eaf
END:VEVENT
END:VCALENDAR