BEGIN:VCALENDAR
VERSION:2.0
PRODID:-//hacksw/handcal//NONSGML v1.0//EN
CALSCALE:GREGORIAN
BEGIN:VEVENT
SUMMARY:Conference: “Searching for a Modus Vivendi in Relations between the West and Russia”\, 21-22 January 2016
DESCRIPTION:
DTSTART:20160120T220000Z
DTEND:20160121T220000Z
LOCATION:
URL;VALUE=URI:https://www.eliamep.gr/en/event/%cf%83%cf%85%ce%bd%ce%ad%ce%b4%cf%81%ce%b9%ce%bf-%ce%b1%ce%bd%ce%b1%ce%b6%ce%b7%cf%84%cf%8e%ce%bd%cf%84%ce%b1%cf%82-%ce%ad%ce%bd%ce%b1-modus-vivendi-%cf%83%cf%84%ce%b9%cf%82/
DTSTAMP:20211127T092015Z
UID:61a1f84f8608e
END:VEVENT
END:VCALENDAR