BEGIN:VCALENDAR
VERSION:2.0
PRODID:-//hacksw/handcal//NONSGML v1.0//EN
CALSCALE:GREGORIAN
BEGIN:VEVENT
SUMMARY:Participation by Research Fellow of ELIAMEP\, Eda Gemi\, in the second iMnet workshop\, 22/03/2013
DESCRIPTION:
DTSTART:20130321T220000Z
DTEND:20130321T220000Z
LOCATION: Centro Convegni “PALESTRO” (Via Palestro\, 24\, Roma)
URL;VALUE=URI:https://www.eliamep.gr/en/event/%cf%83%cf%85%ce%bc%ce%bc%ce%b5%cf%84%ce%bf%cf%87%ce%ae-%cf%84%ce%b7%cf%82-%ce%b5%cf%81%ce%b5%cf%85%ce%bd%ce%ae%cf%84%cf%81%ce%b9%ce%b1%cf%82-%cf%84%ce%bf%cf%85-%ce%b5%ce%bb%ce%b9%ce%b1%ce%bc%ce%b5/
DTSTAMP:20211127T080131Z
UID:61a1e5db3ad64
END:VEVENT
END:VCALENDAR