BEGIN:VCALENDAR
VERSION:2.0
PRODID:-//hacksw/handcal//NONSGML v1.0//EN
CALSCALE:GREGORIAN
BEGIN:VEVENT
SUMMARY:Roundtable discussion with H.E. the Ambassador of Serbia in Athens\, 12/03/2012
DESCRIPTION:
DTSTART:20120311T220000Z
DTEND:20120311T220000Z
LOCATION:
URL;VALUE=URI:https://www.eliamep.gr/en/event/%cf%83%cf%85%ce%b6%ce%ae%cf%84%ce%b7%cf%83%ce%b7-%cf%83%cf%84%cf%81%ce%bf%ce%b3%ce%b3%cf%85%ce%bb%ce%ae%cf%82-%cf%84%cf%81%ce%b1%cf%80%ce%ad%ce%b6%ce%b7%cf%82-%ce%bc%ce%b5-%cf%84%ce%b7%ce%bd-%cf%80/
DTSTAMP:20211127T090117Z
UID:61a1f3ddaec0f
END:VEVENT
END:VCALENDAR