BEGIN:VCALENDAR
VERSION:2.0
PRODID:-//hacksw/handcal//NONSGML v1.0//EN
CALSCALE:GREGORIAN
BEGIN:VEVENT
SUMMARY:Discussion with Mr. John Griffin\, Ambassador of the Australian Embassy in Athens\, 31/05/2016
DESCRIPTION:
DTSTART:20160530T210000Z
DTEND:20160530T210000Z
LOCATION:Representation of the European Commission in Greece
URL;VALUE=URI:https://www.eliamep.gr/en/event/%cf%83%cf%85%ce%b6%ce%ae%cf%84%ce%b7%cf%83%ce%b7-%ce%bc%ce%b5-%cf%84%ce%bf%ce%bd-%ce%ba-john-griffin-%cf%80%cf%81%ce%ad%cf%83%ce%b2%ce%b7-%cf%84%ce%b7%cf%82-%ce%b1%cf%85%cf%83%cf%84%cf%81%ce%b1/
DTSTAMP:20211127T092021Z
UID:61a1f85572e70
END:VEVENT
END:VCALENDAR