BEGIN:VCALENDAR
VERSION:2.0
PRODID:-//hacksw/handcal//NONSGML v1.0//EN
CALSCALE:GREGORIAN
BEGIN:VEVENT
SUMMARY:Roundtable discussion with representatives of the Kosovar Civil Society\, 09/11/2012
DESCRIPTION:
DTSTART:20121108T220000Z
DTEND:20121108T220000Z
LOCATION:
URL;VALUE=URI:https://www.eliamep.gr/en/event/%cf%83%cf%85%ce%b6%ce%ae%cf%84%ce%b7%cf%83%ce%b7-%ce%bc%ce%b5-%ce%b5%ce%ba%cf%80%cf%81%ce%bf%cf%83%cf%8e%cf%80%ce%bf%cf%85%cf%82-%cf%84%ce%b7%cf%82-%ce%ba%ce%bf%ce%b9%ce%bd%cf%89%ce%bd%ce%af%ce%b1/
DTSTAMP:20211127T090113Z
UID:61a1f3d9cdf29
END:VEVENT
END:VCALENDAR