BEGIN:VCALENDAR
VERSION:2.0
PRODID:-//hacksw/handcal//NONSGML v1.0//EN
CALSCALE:GREGORIAN
BEGIN:VEVENT
SUMMARY:Strategic Dialogues for Europe
DESCRIPTION:
DTSTART:20190402T210000Z
DTEND:20190402T210000Z
LOCATION:
URL;VALUE=URI:https://www.eliamep.gr/en/event/%cf%83%cf%84%cf%81%ce%b1%cf%84%ce%b7%ce%b3%ce%b9%ce%ba%ce%bf%ce%af-%ce%b4%ce%b9%ce%ac%ce%bb%ce%bf%ce%b3%ce%bf%ce%b9-%ce%b3%ce%b9%ce%b1-%cf%84%ce%b7%ce%bd-%ce%b5%cf%85%cf%81%cf%8e%cf%80%ce%b7/
DTSTAMP:20211127T093354Z
UID:61a1fb82ae0d1
END:VEVENT
END:VCALENDAR