BEGIN:VCALENDAR
VERSION:2.0
PRODID:-//hacksw/handcal//NONSGML v1.0//EN
CALSCALE:GREGORIAN
BEGIN:VEVENT
SUMMARY:Dr Armakolas participated in a Brussels event launching EPC study on EU enlargement in the Balkans
DESCRIPTION:
DTSTART:20150928T210000Z
DTEND:20150928T210000Z
LOCATION:
URL;VALUE=URI:https://www.eliamep.gr/en/event/%cf%83%ce%b5-%cf%80%ce%b1%cf%81%ce%bf%cf%85%cf%83%ce%af%ce%b1%cf%83%ce%b7-%ce%bc%ce%b5%ce%bb%ce%ad%cf%84%ce%b7%cf%82-%cf%84%ce%bf%cf%85-epc-%ce%b3%ce%b9%ce%b1-%cf%84%ce%b7%ce%bd-%ce%b5%cf%85%cf%81/
DTSTAMP:20211127T080915Z
UID:61a1e7ab98bb9
END:VEVENT
END:VCALENDAR