BEGIN:VCALENDAR
VERSION:2.0
PRODID:-//hacksw/handcal//NONSGML v1.0//EN
CALSCALE:GREGORIAN
BEGIN:VEVENT
SUMMARY:Seminars on East and South Asia
DESCRIPTION:
DTSTART:20150428T153000Z
DTEND:20150525T210000Z
LOCATION:
URL;VALUE=URI:https://www.eliamep.gr/en/event/%cf%83%ce%b5%ce%bc%ce%b9%ce%bd%ce%ac%cf%81%ce%b9%ce%b1-%ce%b3%ce%b9%ce%b1-%cf%84%ce%b7%ce%bd-%ce%b1%ce%bd%ce%b1%cf%84%ce%bf%ce%bb%ce%b9%ce%ba%ce%ae-%ce%ba%ce%b1%ce%b9-%ce%bd%cf%8c%cf%84%ce%b9%ce%bf/
DTSTAMP:20211127T094758Z
UID:61a1fececbd8e
END:VEVENT
END:VCALENDAR