BEGIN:VCALENDAR
VERSION:2.0
PRODID:-//hacksw/handcal//NONSGML v1.0//EN
CALSCALE:GREGORIAN
BEGIN:VEVENT
SUMMARY:&#8220\;Media policies &#038\; regulation for media freedom &#038\; independence&#8221\;
DESCRIPTION:
DTSTART:20110629T210000Z
DTEND:20110629T210000Z
LOCATION:Athens
URL;VALUE=URI:https://www.eliamep.gr/en/event/%cf%80%ce%bf%ce%bb%ce%b9%cf%84%ce%b9%ce%ba%ce%ad%cf%82-%ce%ba%ce%b1%ce%b9-%ce%b8%ce%b5%cf%83%ce%bc%ce%b9%ce%ba%cf%8c-%cf%80%ce%bb%ce%b1%ce%af%cf%83%ce%b9%ce%bf-%ce%b3%ce%b9%ce%b1-%cf%84%ce%b7/
DTSTAMP:20211127T083135Z
UID:61a1ece7aaf14
END:VEVENT
END:VCALENDAR