BEGIN:VCALENDAR
VERSION:2.0
PRODID:-//hacksw/handcal//NONSGML v1.0//EN
CALSCALE:GREGORIAN
BEGIN:VEVENT
SUMMARY:Book Presentation: &#8220\;The Stars of Europe&#8221\; by Thodoris Papaioannou and Leda Varvarousi
DESCRIPTION:
DTSTART:20190407T083000Z
DTEND:20190406T210000Z
LOCATION:Children - Teenager Library of the Culture\, Youth and Sports Organization of Athens' Municipality (former KAPAPS Park)\, Trifilias & Lampsa Street
URL;VALUE=URI:https://www.eliamep.gr/en/event/%cf%80%ce%b1%cf%81%ce%bf%cf%85%cf%83%ce%af%ce%b1%cf%83%ce%b7-%cf%84%ce%bf%cf%85-%ce%b2%ce%b9%ce%b2%ce%bb%ce%af%ce%bf%cf%85-%cf%84%ce%b1-%ce%b1%cf%83%cf%84%ce%ad%cf%81%ce%b9%ce%b1-%cf%84%ce%b7%cf%82/
DTSTAMP:20211127T081122Z
UID:61a1e82a416e7
END:VEVENT
END:VCALENDAR