BEGIN:VCALENDAR
VERSION:2.0
PRODID:-//hacksw/handcal//NONSGML v1.0//EN
CALSCALE:GREGORIAN
BEGIN:VEVENT
SUMMARY:Presentation of ELIAMEP Study on relations between Greece and Bulgaria
DESCRIPTION:
DTSTART:20170309T220000Z
DTEND:20170309T220000Z
LOCATION:ΕΛΙΑΜΕΠ
URL;VALUE=URI:https://www.eliamep.gr/en/event/%cf%80%ce%b1%cf%81%ce%bf%cf%85%cf%83%ce%af%ce%b1%cf%83%ce%b7-%cf%84%ce%b7%cf%82-%ce%bc%ce%b5%ce%bb%ce%ad%cf%84%ce%b7%cf%82-%cf%84%ce%bf%cf%85-%ce%b5%ce%bb%ce%b9%ce%b1%ce%bc%ce%b5%cf%80-%ce%b3%ce%b9/
DTSTAMP:20211127T092030Z
UID:61a1f85eaa0d0
END:VEVENT
END:VCALENDAR