BEGIN:VCALENDAR
VERSION:2.0
PRODID:-//hacksw/handcal//NONSGML v1.0//EN
CALSCALE:GREGORIAN
BEGIN:VEVENT
SUMMARY:Presentation by Dr. Focas in the framework of ELIAMEP&#8217\;s Research Seminars
DESCRIPTION:
DTSTART:20120426T210000Z
DTEND:20211126T220000Z
LOCATION:
URL;VALUE=URI:https://www.eliamep.gr/en/event/%cf%80%ce%b1%cf%81%ce%bf%cf%85%cf%83%ce%af%ce%b1%cf%83%ce%b7-%cf%84%ce%b7%cf%82-%ce%b4%cf%81%ce%bf%cf%82-%cf%86%cf%89%ce%ba%ce%ac-%cf%83%cf%84%ce%bf-%cf%80%ce%bb%ce%b1%ce%af%cf%83%ce%b9%ce%bf-%cf%84/
DTSTAMP:20211127T090110Z
UID:61a1f3d63eba3
END:VEVENT
END:VCALENDAR