BEGIN:VCALENDAR
VERSION:2.0
PRODID:-//hacksw/handcal//NONSGML v1.0//EN
CALSCALE:GREGORIAN
BEGIN:VEVENT
SUMMARY:Book presentation: &#8220\;Aid Trade and Development – 50 years of Globalization&#8221\;
DESCRIPTION:
DTSTART:20180220T110000Z
DTEND:20180219T220000Z
LOCATION:ELIAMEP’s premises (ground floor)
49\, Vassilissis Sophias Ave.\, Athens 10676
URL;VALUE=URI:https://www.eliamep.gr/en/event/%cf%80%ce%b1%cf%81%ce%bf%cf%85%cf%83%ce%af%ce%b1%cf%83%ce%b7-%ce%b2%ce%b9%ce%b2%ce%bb%ce%af%ce%bf%cf%85-aid-trade-and-development-50-years-of-globalization/
DTSTAMP:20211127T092037Z
UID:61a1f865ca5e7
END:VEVENT
END:VCALENDAR