BEGIN:VCALENDAR
VERSION:2.0
PRODID:-//hacksw/handcal//NONSGML v1.0//EN
CALSCALE:GREGORIAN
BEGIN:VEVENT
SUMMARY:Ambassador&#8217\;s (ad hon.) Pavlos Apostolidis book launch event\, 01/12/2014
DESCRIPTION:
DTSTART:20141201T100000Z
DTEND:20141130T220000Z
LOCATION:Ministry of Foreign Affairs (Auditorium G. Kranidiotis
URL;VALUE=URI:https://www.eliamep.gr/en/event/%cf%80%ce%b1%cf%81%ce%bf%cf%85%cf%83%ce%af%ce%b1%cf%83%ce%b7-%ce%b2%ce%b9%ce%b2%ce%bb%ce%af%ce%bf%cf%85-%cf%84%ce%bf%cf%85-%cf%80%cf%81%ce%ad%cf%83%ce%b2%ce%b7-%ce%b5-%cf%84-%cf%80%ce%b1%cf%8d%ce%bb/
DTSTAMP:20211127T094751Z
UID:61a1fec7c9d51
END:VEVENT
END:VCALENDAR