BEGIN:VCALENDAR
VERSION:2.0
PRODID:-//hacksw/handcal//NONSGML v1.0//EN
CALSCALE:GREGORIAN
BEGIN:VEVENT
SUMMARY:Παρουσίαση: Αγγλόφωνο Μεταπτυχιακό Πρόγραμμα Σπουδών στη Νοτιοανατολική Ευρώπη (ΕΚΠΑ)\, Παρασκευή\, 2 Δεκεμβρίου 2016
DESCRIPTION:
DTSTART:20161201T220000Z
DTEND:20211126T220000Z
LOCATION:
URL;VALUE=URI:https://www.eliamep.gr/en/event/%cf%80%ce%b1%cf%81%ce%bf%cf%85%cf%83%ce%af%ce%b1%cf%83%ce%b7-%ce%b1%ce%b3%ce%b3%ce%bb%cf%8c%cf%86%cf%89%ce%bd%ce%bf-%ce%bc%ce%b5%cf%84%ce%b1%cf%80%cf%84%cf%85%cf%87%ce%b9%ce%b1%ce%ba%cf%8c-%cf%80/
DTSTAMP:20211127T092036Z
UID:61a1f864a1806
END:VEVENT
END:VCALENDAR