BEGIN:VCALENDAR
VERSION:2.0
PRODID:-//hacksw/handcal//NONSGML v1.0//EN
CALSCALE:GREGORIAN
BEGIN:VEVENT
SUMMARY:Paper presented by &#8216\;Stavros Costopoulos&#8217\; Fellow at ELIAMEP\, Dr Ioannis Armakolas in Tirana 14/12/2012
DESCRIPTION:
DTSTART:20121213T220000Z
DTEND:20121213T220000Z
LOCATION:Tirana
URL;VALUE=URI:https://www.eliamep.gr/en/event/%ce%bf%ce%bc%ce%b9%ce%bb%ce%af%ce%b1-%cf%84%ce%bf%cf%85-%ce%b5%cf%81%ce%b5%cf%85%ce%bd%ce%b7%cf%84%ce%b9%ce%ba%ce%bf%cf%8d-%cf%85%cf%80%ce%bf%cf%84%cf%81%cf%8c%cf%86%ce%bf%cf%85-%cf%83%cf%84-2/
DTSTAMP:20211127T090115Z
UID:61a1f3db4f94a
END:VEVENT
END:VCALENDAR