BEGIN:VCALENDAR
VERSION:2.0
PRODID:-//hacksw/handcal//NONSGML v1.0//EN
CALSCALE:GREGORIAN
BEGIN:VEVENT
SUMMARY:Two-day tribute to the &#8220\;Unknown Balkans&#8221\;
DESCRIPTION:
DTSTART:20170602T070000Z
DTEND:20170603T170000Z
LOCATION:The Hub Events
URL;VALUE=URI:https://www.eliamep.gr/en/event/%ce%bf%ce%bb%ce%bf%ce%ba%ce%bb%ce%b7%cf%81%cf%8e%ce%b8%ce%b7%ce%ba%ce%b5-%cf%84%ce%bf-%ce%b4%ce%b9%ce%ae%ce%bc%ce%b5%cf%81%ce%bf-%ce%b1%cf%86%ce%b9%ce%ad%cf%81%cf%89%ce%bc%ce%b1-%ce%b3%ce%b9%ce%b1/
DTSTAMP:20211127T090617Z
UID:61a1f509375b7
END:VEVENT
END:VCALENDAR