BEGIN:VCALENDAR
VERSION:2.0
PRODID:-//hacksw/handcal//NONSGML v1.0//EN
CALSCALE:GREGORIAN
BEGIN:VEVENT
SUMMARY:&#8220\;Forms of radical politicization and political violence in Greece&#8221\;\, Tuesday 21/2/2017
DESCRIPTION:
DTSTART:20170221T120000Z
DTEND:20170221T150000Z
LOCATION:Aegli Zappeion
URL;VALUE=URI:https://www.eliamep.gr/en/event/%ce%bc%ce%bf%cf%81%cf%86%ce%ad%cf%82-%cf%81%ce%b9%ce%b6%ce%bf%cf%83%cf%80%ce%b1%cf%83%cf%84%ce%b9%ce%ba%ce%ae%cf%82-%cf%80%ce%bf%ce%bb%ce%b9%cf%84%ce%b9%ce%ba%ce%bf%cf%80%ce%bf%ce%af%ce%b7%cf%83%ce%b7/
DTSTAMP:20211127T092035Z
UID:61a1f863dc1a1
END:VEVENT
END:VCALENDAR