BEGIN:VCALENDAR
VERSION:2.0
PRODID:-//hacksw/handcal//NONSGML v1.0//EN
CALSCALE:GREGORIAN
BEGIN:VEVENT
SUMMARY:Seminars by ELIAMEP and IDOS on Greece and the future of Europe
DESCRIPTION:
DTSTART:20171031T220000Z
DTEND:20171205T220000Z
LOCATION:Αίθουσα διαλέξεων του Ινστιτούτου Διεθνών Οικονομικών Σχέσεων\, Πανεπιστημίου 16\, β΄ όροφος
URL;VALUE=URI:https://www.eliamep.gr/en/event/%ce%ba%cf%8d%ce%ba%ce%bb%ce%bf%cf%82-%cf%83%ce%b5%ce%bc%ce%b9%ce%bd%ce%b1%cf%81%ce%af%cf%89%ce%bd-%ce%b5%ce%bb%ce%b9%ce%b1%ce%bc%ce%b5%cf%80-%ce%b9%ce%b4%ce%bf%cf%83-%ce%b3%ce%b9%ce%b1-%cf%84%ce%b7-2/
DTSTAMP:20211127T081143Z
UID:61a1e83f3f9d2
END:VEVENT
END:VCALENDAR