BEGIN:VCALENDAR
VERSION:2.0
PRODID:-//hacksw/handcal//NONSGML v1.0//EN
CALSCALE:GREGORIAN
BEGIN:VEVENT
SUMMARY:Public debate: ‘Social justice in the EU and Greece: How to prevent a lasting social division?’ 19/03/2015
DESCRIPTION:
DTSTART:20150319T170000Z
DTEND:20150319T200000Z
LOCATION:Amphitheatre\, Acropolis Museum\, 15 Dionysiou Areopagitou Street\, 11742 Athens
URL;VALUE=URI:https://www.eliamep.gr/en/event/%ce%ba%ce%bf%ce%b9%ce%bd%cf%89%ce%bd%ce%b9%ce%ba%ce%ae-%ce%b4%ce%b9%ce%ba%ce%b1%ce%b9%ce%bf%cf%83%cf%8d%ce%bd%ce%b7-%cf%83%cf%84%ce%b7%ce%bd-%ce%b5%ce%b5-%ce%ba%ce%b1%ce%b9-%cf%84%ce%b7%ce%bd/
DTSTAMP:20211127T094743Z
UID:61a1febf25cbd
END:VEVENT
END:VCALENDAR