BEGIN:VCALENDAR
VERSION:2.0
PRODID:-//hacksw/handcal//NONSGML v1.0//EN
CALSCALE:GREGORIAN
BEGIN:VEVENT
SUMMARY:Roundtable discussion with H.E. Ambassador Darko Angelov\, 20/02/2015
DESCRIPTION:
DTSTART:20150219T220000Z
DTEND:20150219T220000Z
LOCATION:premises of the European Commission Representation in Greece
URL;VALUE=URI:https://www.eliamep.gr/en/event/%ce%ba%ce%bb%ce%b5%ce%b9%cf%83%cf%84%ce%ae-%cf%83%cf%85%ce%bd%ce%ac%ce%bd%cf%84%ce%b7%cf%83%ce%b7-%cf%83%cf%85%ce%b6%ce%ae%cf%84%ce%b7%cf%83%ce%b7-%ce%bc%ce%b5-%cf%84%ce%bf%ce%bd-%cf%80%cf%81%ce%ad/
DTSTAMP:20211127T094754Z
UID:61a1feca15162
END:VEVENT
END:VCALENDAR